BEGIN:VCALENDAR
VERSION:2.0
PRODID:-//ChamberMaster//Event Calendar 2.0//EN
METHOD:PUBLISH
X-PUBLISHED-TTL:P3D
REFRESH-INTERVAL:P3D
CALSCALE:GREGORIAN
BEGIN:VEVENT
DTSTART:20260312T200000Z
DTEND:20260312T220000Z
X-MICROSOFT-CDO-ALLDAYEVENT:FALSE
SUMMARY:Family First Pharmacy Open House
DESCRIPTION:Stop by and discover Downtown York's Pharmacy.   Enjoy giveaways and see the pharmacy   Get a free blood pressure screening   Meet our friendly pharmacy team   Discover ways to save time and money
X-ALT-DESC;FMTTYPE=text/html:Stop by and discover Downtown York&#39\;s Pharmacy. &bull\; Enjoy giveaways and see the pharmacy &bull\; Get a free blood pressure screening &bull\; Meet our friendly pharmacy team &bull\; Discover ways to save time and money
LOCATION:Family First Pharmacy 116 S. George St 1st floor York\, PA 17401
UID:e.2302.11624
SEQUENCE:3
DTSTAMP:20260422T085109Z
URL:https://business.ycea-pa.org/events/details/family-first-pharmacy-open-house-11624
END:VEVENT

END:VCALENDAR
