BEGIN:VCALENDAR
VERSION:2.0
PRODID:-//ChamberMaster//Event Calendar 2.0//EN
METHOD:PUBLISH
X-PUBLISHED-TTL:P3D
REFRESH-INTERVAL:P3D
CALSCALE:GREGORIAN
BEGIN:VEVENT
DTSTART:20260526T190000Z
DTEND:20260526T210000Z
X-MICROSOFT-CDO-ALLDAYEVENT:FALSE
SUMMARY:York Hiring Fair Series 2026 (ALL THREE EVENTS)
DESCRIPTION:Don't miss your opportunity to reach and meet local job seekers during the 2026 York Hiring Fair Series! In partnership with the York Revolution\, Sports Radio 98\, and the York Hiring Fair will be held at WellSpan Park. Recruitment campaigns will include radio advertising\, social media\, web and in person connections on the day of the event. The Hiring Fair will be promoted to job applicants through YCEA\, Sports Radio 98.9 and York Revolution channels. \n\n\n\nAll employer participant fees must be paid at the time of registration.  Is your organization a YCEA member? Login to sign up! Don't have a login? Email Sterling Dunlap at sdunlap@yceapa.org for your member login! You can also register as a Non-member. If you have any issues with registration\, please email Sully Pinos at spinos@yceapa.org\n\n \n\nThis registration is for employers only.\n\nTo register as an employer at ALL 2026 Hiring Fair which take place on May 26\, July 22nd and/or the September 9th hiring fair\, please fill out this form below.\n\nTo register for a single fair\, visit the individual event pages here- https://business.ycea-pa.org/events/details/york-hiring-fair-2025-february-11388\n\n\n\nIf you are a jobseeker interested in attending the May 26\, July 22nd and/or the September 9th hiring fair\, please fill out this form below. \n\nhttps://forms.gle/iZvHowb6N7vSYPcA9 \n\n \n\n\n\nFirst Level Participant - $675\n\n$405 non-profit/government\n\nRegistration deadline: May 15\, 2026\n\n	Marketing table at hiring fair\n	Inclusion in commercial listing all employers at least once per weekday for two weeks on Sports Radio 98.9 and WOYK\n	Website hiring fair listing on 989woyk.com with link to job postings\n	Promotion of the hiring fair on 98.9 and WOYK social media\, including one mention of each participant\n	Parking available in WellSpan Park's Queen Street lot for events taking place at WellSpan  Park\n	Bagged lunch included for two employees\n	Option to add :30 second radio commercials specific to your company and opportunities at $10 per commercial\n\n \n\nSecond Level Participant- $1\,350\n\n$810 non-profit/government\n\nRegistration deadline: May 15\, 2026\n\n	Marketing table at hiring fair\n	Inclusion in commercial listing all employers at least once per weekday for two weeks on 98.9 and WOYK\n	2X :30 second commercials for your company or specific hiring opportunity\, to run during drive time Monday-Friday for 2 weeks\n	Website ad on 989woyk.com with link to job postings\n	Promotion of the hiring fair on 98.9 and WOYK social media\, including one mention of each participant\n	10 undated ticket vouchers to a 2026 York Revolution game for client entertainment\n	Parking available in WellSpan Park's Queen Street lot for events taking place at WellSpan Park\n	Bagged lunch included for three employees\n\n \n\nPremier Level Participant - $2\,700\n\n$1\,620 non-profit/government\n\nRegistration deadline: May 15\, 2026\n\n\n\nIncludes a 30 day campaign combining in-person recruiting with radio\, digital and targeted social. Reach job seekers when they are engaged with their favorite sports programming AND while they are spending time on social media.\n\n	Marketing table at hiring fair\n	Marketing table for one Revolution home game\n	2X :30 second drive-time commercials daily\, Monday-Friday\n	25X :30 second additional commercials weekly\, Monday-Sunday\n	Featured logo on WOYK website linking back to your website\n	20 undated ticket vouchers to a 2026 York Revolution game for client entertainment\n	Parking available in WellSpan Park's Queen Street lot for events taking place at WellSpan Park\n	Bagged lunch included for three employees\n\nPlus your choice of a Revolution game action sponsorship or Social media campaign:\n\n\n	Targeted social media campaign designed to reach people who are actively searching for employment\n	\n		Includes creative services in designing your social campaign and radio commercials\n		Comprehensive monthly reporting on the results of your campaign\n	\n	\n\nOR\n\n\n	Revolution game action: You will be the sponsor of a radio broadcast game action such as stolen bases strike outs\, pitching change\, etc.\n	\n		Includes recognition in the pre-game broadcast and every time the game action takes place in every broadcast\n		Includes a campaign of 30 second radio commercials during the Revolution season
X-ALT-DESC;FMTTYPE=text/html:Don&#39\;t miss your opportunity to reach and meet local job seekers during the 2026 York Hiring Fair Series! In partnership with the York Revolution\,&nbsp\;Sports Radio 98\, and the York Hiring Fair will be held at WellSpan Park. Recruitment campaigns will include radio advertising\, social media\, web and in person connections on the day of the event. The Hiring Fair will be promoted to job applicants through YCEA\, Sports Radio 98.9 and York Revolution channels.&nbsp\;<br />\n<br />\n<strong>All employer participant fees must be paid at the time of registration.</strong>&nbsp\;<strong>&nbsp\;Is your organization a YCEA member?&nbsp\;</strong><a href="https://business.ycea-pa.org/login"><strong>Login to sign up</strong></a><strong>! Don&rsquo\;t have a login? Email Sterling Dunlap at&nbsp\;<a href="mailto:sdunlap@yceapa.org">sdunlap@yceapa.org</a>&nbsp\;for your member login! You can also register as a Non-member. If you have any issues with registration\, please email Sully Pinos at spinos@yceapa.org</strong><br />\n&nbsp\;<br />\nThis registration is for employers only.<br />\nTo register as an employer at&nbsp\;<strong>ALL 2026 Hiring Fair&nbsp\;</strong>which take place on&nbsp\;May 26\, July 22nd and/or the September 9th hiring fair\, please fill out this form below.<br />\nTo register for a single fair\, visit the individual event pages here-&nbsp\;<a href="https://business.ycea-pa.org/events/details/york-hiring-fair-2025-february-11388">https://business.ycea-pa.org/events/details/york-hiring-fair-2025-february-11388</a><br />\n<br />\nIf you are a jobseeker interested in attending the May 26\, July 22nd and/or the September 9th hiring fair\, please fill out this form below.&nbsp\;<br />\n<a href="https://forms.gle/iZvHowb6N7vSYPcA9">https://forms.gle/iZvHowb6N7vSYPcA9&nbsp\;</a><br />\n&nbsp\;<br />\n<br />\n<strong>First Level Participant - $675</strong><br />\n$405 non-profit/government<br />\nRegistration deadline: May 15\, 2026\n<ul>\n	<li>Marketing table at hiring fair</li>\n	<li>Inclusion in commercial listing all employers at least once per weekday for two weeks on Sports Radio 98.9 and WOYK</li>\n	<li>Website hiring fair listing on 989woyk.com with link to job postings</li>\n	<li>Promotion of the hiring fair on 98.9 and WOYK social media\, including one mention of each participant</li>\n	<li>Parking available in&nbsp\;WellSpan&nbsp\;Park&#39\;s Queen Street lot for events taking place at&nbsp\;WellSpan&nbsp\;&nbsp\;Park</li>\n	<li>Bagged lunch included for two employees</li>\n	<li>Option to add :30 second radio commercials specific to your company and opportunities at $10 per commercial</li>\n</ul>\n&nbsp\;<br />\n<strong>Second Level Participant- $1\,350</strong><br />\n$810 non-profit/government<br />\nRegistration deadline: May 15\, 2026\n<ul>\n	<li>Marketing table at hiring fair</li>\n	<li>Inclusion in commercial listing all employers at least once per weekday for two weeks on 98.9 and WOYK</li>\n	<li>2X :30 second commercials for your company or specific hiring opportunity\, to run during drive time Monday-Friday for 2 weeks</li>\n	<li>Website ad on 989woyk.com with link to job postings</li>\n	<li>Promotion of the hiring fair on 98.9 and WOYK social media\, including one mention of each participant</li>\n	<li>10 undated ticket vouchers to a 2026 York Revolution game for client entertainment</li>\n	<li>Parking available in&nbsp\;WellSpan&nbsp\;Park&#39\;s Queen Street lot for events taking place at&nbsp\;WellSpan&nbsp\;Park</li>\n	<li>Bagged lunch included for three employees</li>\n</ul>\n&nbsp\;<br />\n<strong>Premier Level Participant - $2\,700</strong><br />\n$1\,620 non-profit/government<br />\nRegistration deadline: May 15\, 2026<br />\n<br />\nIncludes a 30 day campaign combining in-person recruiting with radio\, digital and targeted social. Reach job seekers when they are engaged with their favorite sports programming AND while they are spending time on social media.\n<ul>\n	<li>Marketing table at hiring fair</li>\n	<li>Marketing table for one Revolution home game</li>\n	<li>2X :30 second drive-time commercials daily\, Monday-Friday</li>\n	<li>25X :30 second additional commercials weekly\, Monday-Sunday</li>\n	<li>Featured logo on WOYK website linking back to your website</li>\n	<li>20 undated ticket vouchers to a 2026 York Revolution game for client entertainment</li>\n	<li>Parking available in&nbsp\;WellSpan&nbsp\;Park&#39\;s Queen Street lot for events taking place at&nbsp\;WellSpan&nbsp\;Park</li>\n	<li>Bagged lunch included for three employees</li>\n</ul>\nPlus your choice of a Revolution game action sponsorship or Social media campaign:\n\n<ul>\n	<li>Targeted social media campaign designed to reach people who are actively searching for employment\n	<ul>\n		<li>Includes creative services in designing your social campaign and radio commercials</li>\n		<li>Comprehensive monthly reporting on the results of your campaign</li>\n	</ul>\n	</li>\n</ul>\nOR\n\n<ul>\n	<li>Revolution game action: You will be the sponsor of a radio broadcast game action such as stolen bases strike outs\, pitching change\, etc.\n	<ul>\n		<li>Includes recognition in the pre-game broadcast and every time the game action takes place in every broadcast</li>\n		<li>Includes a campaign of 30 second radio commercials during the Revolution season</li>\n	</ul>\n	</li>\n</ul>\n
LOCATION:
UID:e.2302.11617
SEQUENCE:3
DTSTAMP:20260423T141613Z
URL:http://business.ycea-pa.org/events/details/york-hiring-fair-series-2026-11617
END:VEVENT

END:VCALENDAR
