BEGIN:VCALENDAR
VERSION:2.0
PRODID:-//ChamberMaster//Event Calendar 2.0//EN
METHOD:PUBLISH
X-PUBLISHED-TTL:P3D
REFRESH-INTERVAL:P3D
CALSCALE:GREGORIAN
BEGIN:VEVENT
DTSTART:20260526T190000Z
DTEND:20260526T210000Z
X-MICROSOFT-CDO-ALLDAYEVENT:FALSE
SUMMARY:York Hiring Fair 2026- May
DESCRIPTION:Don't miss your opportunity to reach and meet local job seekers during the 2026 York Hiring Fair Series! In partnership with the York Revolution\, Sports Radio 98.9\, and the York Hiring Fair will be held at WellSpan Park. Recruitment campaigns will include radio advertising\, social media\, web and in person connections on the day of the event. The Hiring Fair will be promoted to job applicants through YCEA\, Sports Radio 98.9 and York Revolution channels. \n\nAll employer participant fees must be paid at the time of registration.  Is your organization a YCEA member? Login to sign up! Don't have a login? Email Sterling Dunlap at sdunlap@yceapa.org for your member login! You can also register as a Non-member. If you have any issues with registration\, please email Sully Pinos at spinos@yceapa.org\n\n \n\nThis registration is for employers only.\n\nIf you are a jobseeker interested in attending the May 26 hiring fair\, please fill out this form below. \n\nhttps://forms.gle/iZvHowb6N7vSYPcA9\n\n \n\nFirst Level Participant - $250\n\n$150 non-profit/government\n\nRegistration deadline: May 15\, 2026\n\n	Marketing table at hiring fair\n	Inclusion in commercial listing all employers at least once per weekday for two weeks on Sports Radio 98.9 and WOYK\n	Website hiring fair listing on 989woyk.com with link to job postings\n	Promotion of the hiring fair on 98.9 and WOYK social media\, including one mention of each participant\n	Bagged lunch included for two employees\n	Option to add :30 second radio commercials specific to your company and opportunities at $10 per commercial\n\n \n\nSecond Level Participant- $500\n\n$300 non-profit/government\n\nRegistration deadline: May 15\, 2026\n\n	Marketing table at hiring fair\n	Inclusion in commercial listing all employers at least once per weekday for two weeks on 98.9 and WOYK\n	2X :30 second commercials for your company or specific hiring opportunity\, to run during drive time Monday-Friday for 2 weeks\n	Website ad on 989woyk.com with link to job postings\n	Promotion of the hiring fair on 98.9 and WOYK social media\, including one mention of each participant\n	10 undated ticket vouchers to a 2026 York Revolution game for client entertainment\n	Bagged lunch included for three employees\n\n \n\nPremier Level Participant - $1\,000\n\n$600 non-profit/government\n\nRegistration deadline: May 15\, 2026\n\n	Marketing table at hiring fair\n	Inclusion in commercial listing all employers at least once per weekday for two weeks on 98.9 and WOYK\n	2X :30 second commercials for your company or specific hiring opportunity\, to run during drive time Monday-Friday for 2 weeks\n	25X additional:30 second commercials during other time\n	Website ad on 989woyk.com with link to job postings\n	Promotion of the hiring fair on 98.9 and WOYK social media\, including one mention of each participant\n	20 undated ticket vouchers to a 2026 York Revolution game for client entertainment\n	Online social media post\n	Bagged lunch included for three employees
X-ALT-DESC;FMTTYPE=text/html:Don&#39\;t miss your opportunity to reach and meet local job seekers during the 2026 York Hiring Fair Series! In partnership with the York Revolution\,&nbsp\;Sports Radio 98.9\, and the York Hiring Fair will be held at WellSpan Park. Recruitment campaigns will include radio advertising\, social media\, web and in person connections on the day of the event. The Hiring Fair will be promoted to job applicants through YCEA\, Sports Radio 98.9 and York Revolution channels.&nbsp\;<br />\n<strong>All employer participant fees must be paid at the time of registration.</strong>&nbsp\;<strong>&nbsp\;Is your organization a YCEA member?&nbsp\;</strong><a href="https://business.ycea-pa.org/login"><strong>Login to sign up</strong></a><strong>! Don&rsquo\;t have a login? Email Sterling Dunlap at&nbsp\;<a href="mailto:sdunlap@yceapa.org">sdunlap@yceapa.org</a>&nbsp\;for your member login! You can also register as a Non-member. If you have any issues with registration\, please email Sully Pinos at spinos@yceapa.org</strong><br />\n&nbsp\;<br />\nThis registration is for employers only.<br />\nIf you are a jobseeker interested in attending the May 26 hiring fair\, please fill out this form below.&nbsp\;<br />\n<a href="https://forms.gle/iZvHowb6N7vSYPcA9">https://forms.gle/iZvHowb6N7vSYPcA9<br />\n&nbsp\;</a><br />\n<strong>First Level Participant - $250</strong><br />\n$150 non-profit/government<br />\nRegistration deadline: May 15\, 2026\n<ul>\n	<li>Marketing table at hiring fair</li>\n	<li>Inclusion in commercial listing all employers at least once per weekday for two weeks on Sports Radio 98.9 and WOYK</li>\n	<li>Website hiring fair listing on 989woyk.com with link to job postings</li>\n	<li>Promotion of the hiring fair on 98.9 and WOYK social media\, including one mention of each participant</li>\n	<li>Bagged lunch included for two employees</li>\n	<li>Option to add :30 second radio commercials specific to your company and opportunities at $10 per commercial</li>\n</ul>\n&nbsp\;<br />\n<strong>Second Level Participant- $500</strong><br />\n$300 non-profit/government<br />\nRegistration deadline:&nbsp\;May 15\, 2026\n<ul>\n	<li>Marketing table at hiring fair</li>\n	<li>Inclusion in commercial listing all employers at least once per weekday for two weeks on 98.9 and WOYK</li>\n	<li>2X :30 second commercials for your company or specific hiring opportunity\, to run during drive time Monday-Friday for 2 weeks</li>\n	<li>Website ad on 989woyk.com with link to job postings</li>\n	<li>Promotion of the hiring fair on 98.9 and WOYK social media\, including one mention of each participant</li>\n	<li>10 undated ticket vouchers to a 2026 York Revolution game for client entertainment</li>\n	<li>Bagged lunch included for three employees</li>\n</ul>\n&nbsp\;<br />\n<strong>Premier Level Participant - $1\,000</strong><br />\n$600 non-profit/government<br />\nRegistration deadline:&nbsp\;May 15\, 2026\n<ul>\n	<li>Marketing table at hiring fair</li>\n	<li>Inclusion in commercial listing all employers at least once per weekday for two weeks on 98.9 and WOYK</li>\n	<li>2X :30 second commercials for your company or specific hiring opportunity\, to run during drive time Monday-Friday for 2 weeks</li>\n	<li>25X additional:30 second&nbsp\;commercials during other time</li>\n	<li>Website ad on 989woyk.com with link to job postings</li>\n	<li>Promotion of the hiring fair on 98.9 and WOYK social media\, including one mention of each participant</li>\n	<li>20 undated ticket vouchers to a 2026 York Revolution game for client entertainment</li>\n	<li>Online social media post</li>\n	<li><span style="font-size:12px\;"><span style="font-family: aptos\, sans-serif\;">Bagged lunch included for three employees</span></span></li>\n</ul>\n
LOCATION:
UID:e.2302.11618
SEQUENCE:3
DTSTAMP:20260423T143240Z
URL:http://business.ycea-pa.org/events/details/york-hiring-fair-2026-may-11618
END:VEVENT

END:VCALENDAR
