BEGIN:VCALENDAR
VERSION:2.0
PRODID:-//ChamberMaster//Event Calendar 2.0//EN
METHOD:PUBLISH
X-PUBLISHED-TTL:P3D
REFRESH-INTERVAL:P3D
CALSCALE:GREGORIAN
BEGIN:VEVENT
DTSTART:20190925T130000Z
DTEND:20190925T180000Z
X-MICROSOFT-CDO-ALLDAYEVENT:FALSE
SUMMARY:York County 50plus EXPO
DESCRIPTION:York County boomers and seniors as well as their caregivers and family members are personally invited to attend the area's premier information and entertainment event focused on the 50+ community: the York County 50plus EXPO.\n\nThe 17th annual York County 50plus EXPO will take place from 9 a.m. to 2 p.m. on Sept. 25\, 2019\, at the York Expo Center on Carlisle Avenue. Admission is free!\n\nPresented by OLP Events and sponsored in part by 50plus LIFE\, the EXPO will feature more than 90 exhibitors providing up-to-date information and resources.\n\nWith free health screenings\, door prizes\, educational seminars\, and live entertainment\, the 50plus EXPO is a unique fusion of timely\, relevant information and a fun\, relaxed atmosphere.\n\nAnd it's all free admission and parking will be available at no cost. \n\nFor more information\, please call (717) 285-1350 or visit www.50plusExpoPA.com.
X-ALT-DESC;FMTTYPE=text/html:<span style="font-family:myriad pro\,sans-serif">York County boomers and seniors&mdash\;as well as their caregivers and family members&mdash\;are personally invited to attend the area&rsquo\;s premier information and entertainment event focused on the 50+ community: the York County 50<em>plus</em> EXPO.</span><br />\n<span style="font-family:myriad pro\,sans-serif">The 17<sup>th</sup> annual York County 50<em>plus</em> EXPO will take place from 9 a.m. to 2 p.m. on Sept. 25\, 2019\, at the York Expo Center on Carlisle Avenue. Admission is free!</span><br />\n<span style="font-family:myriad pro\,sans-serif">Presented by OLP Events and sponsored in part by 50<em>plus</em> LIFE\, the EXPO will feature more than 90 exhibitors providing up-to-date information and resources.</span><br />\n<span style="font-family:myriad pro\,sans-serif">With free health screenings\, door prizes\, educational seminars\, and live entertainment\, the 50<em>plus</em> EXPO is a unique fusion of timely\, relevant information and a fun\, relaxed atmosphere.</span><br />\n<span style="font-family:myriad pro\,sans-serif">And it&rsquo\;s all free&mdash\;admission and parking will be available at no cost. </span><br />\n<span style="font-family:myriad pro\,sans-serif">For more information\, please call (717) 285-1350 or visit www.50plusExpoPA.com.</span>
LOCATION:York Expo Center Memorial Hall East\, 334 Carlisle Ave.\, York\, PA 17404
UID:e.2302.8762
SEQUENCE:3
DTSTAMP:20260420T044439Z
URL:http://business.ycea-pa.org/events/details/york-county-50plus-expo-8762
END:VEVENT

END:VCALENDAR
