BEGIN:VCALENDAR
VERSION:2.0
PRODID:-//ChamberMaster//Event Calendar 2.0//EN
METHOD:PUBLISH
X-PUBLISHED-TTL:P3D
REFRESH-INTERVAL:P3D
CALSCALE:GREGORIAN
BEGIN:VEVENT
DTSTART:20200206T230000Z
DTEND:20200207T000000Z
X-MICROSOFT-CDO-ALLDAYEVENT:FALSE
SUMMARY:York Academy Lower School Open House (Grades K-6)
DESCRIPTION:Are you looking for a diverse\, creative school that will prepare your child for success in college and beyond? Come find out why York Academy's challenging International Baccalaureate curriculum and innovative\, art\, music and engineering/design programming is the right fit for your child. The Academy is a unique\, tuition-free alternative for families seeking a holistic education in a caring environment. Students from all York County schools are invited to apply.\n\n\n\nJoin us to learn about the International Baccalaureate framework\, student and parent expectations\, school policies and the admissions process/lottery. This event is for families of students entering kindergarten through grade six. It will be held at the Lower School in the Media Center on the third floor. Registration is not necessary and children are welcome. Tours will be offered after the presentation.\n\n\n\nLearn more about York Academy Regional Charter School at www.yorkacademy.com. Find out the benefits of the International Baccalaureate at www.ibo.org/benefits. Questions? Contact us at (717) 801-3900 or info@yorkarcs.org. We look forward to meeting you!
X-ALT-DESC;FMTTYPE=text/html:<span style="font-size:12px"><span style="font-family:arial\,helvetica\,sans-serif">Are you looking for a diverse\, creative school that will prepare your child for success in college and beyond? Come find out why York Academy&#39\;s challenging <a href="http://www.ibo.org">International Baccalaureate</a> curriculum and innovative\, art\, music and engineering/design programming is the right fit for your child. The Academy is a unique\, tuition-free alternative for families seeking a holistic education in a caring environment. Students from all York County schools are invited to apply.<br />\n<br />\nJoin us to learn about the International Baccalaureate framework\, student and parent expectations\, school policies and the admissions process/lottery. This event is for families of students entering kindergarten through grade six. It will be held at the Lower School in the Media Center on the third floor. Registration is not necessary and children are welcome. Tours will be offered after the presentation.<br />\n<br />\nLearn more about York Academy Regional Charter School at <a href="https://l.facebook.com/l.php?u=http%3A%2F%2Fwww.yorkacademy.com%2F%3Ffbclid%3DIwAR2wZZF2fAPppbEyyu_XHZwgy2IaztVgqYpabqKmNwuf44mvtOC1aavFErE&amp\;h=AT3iWqf2_-aEK-z89CEPwsSu2vjs0GqkLqva13mA6hlVenaI5aJm11NkwhQih0-ngxxQCV0Z2C0HUTZe3_S1bYPrqtMEvpEtB9jpw-RXEpZNK02aQFdRkUhpP-XEgCq2gg">www.yorkacademy.com.</a> Find out the benefits of the International Baccalaureate at <a href="http://www.ibo.org/benefits">www.ibo.org/benefits</a>. Questions? Contact us at (717) 801-3900 or <a href="mailto:info@yorkarcs.org">info@yorkarcs.org</a>. We look forward to meeting you!</span></span>
LOCATION:York Academy Regional Charter School 32 W. North Street York\, PA 17401
UID:e.2302.9599
SEQUENCE:3
DTSTAMP:20260424T075344Z
URL:http://business.ycea-pa.org/events/details/york-academy-2020-21-open-house-information-session-grades-k-6-02-06-2020-9599
END:VEVENT

END:VCALENDAR
