BEGIN:VCALENDAR
VERSION:2.0
PRODID:-//ChamberMaster//Event Calendar 2.0//EN
METHOD:PUBLISH
X-PUBLISHED-TTL:P3D
REFRESH-INTERVAL:P3D
CALSCALE:GREGORIAN
BEGIN:VEVENT
DTSTART:20200327T150000Z
DTEND:20200327T164500Z
X-MICROSOFT-CDO-ALLDAYEVENT:FALSE
SUMMARY:Webinar: IRS Issues Guidance on Tax Credits for Coronavirus Paid Leave
DESCRIPTION:Small and midsize employers may begin using two new refundable payroll tax credits to obtain reimbursement for the costs of providing coronavirusrelated leave to their employees\, the U.S. Department of Labor (DOL) and Internal Revenue Service (IRS) announced on March 20\, 2020.\n\nThis relief is provided under the Families First Coronavirus Response Act (the Act)\, which was enacted on March 18\, 2020. The Act provides funds for employers with fewer than 500 employees to provide paid leave\, either for their employees' own health needs or to care for their family members. The Act aims to help employers keep workers on their payrolls while ensuring that workers are not forced to choose between their paychecks and the public health measures needed to combat the coronavirus (COVID-19).\n\nClick here to download the content for an explanation.\n\nJoin PA Chamber of Business and Industry us on March 27\, 2020   11 am to 12:45 pm for PA Chamber's free webinar Coronovarius and Small Business Next Steps and Best Practices.
X-ALT-DESC;FMTTYPE=text/html:<p open="" style="box-sizing: border-box\; margin: 0px\; padding: 0px 0px 1em\; border: 0px\; outline: 0px\; font-size: 14px\; text-size-adjust: 100%\; vertical-align: baseline\; background-image: initial\; background-position: initial\; background-size: initial\; background-repeat: initial\; background-attachment: initial\; background-origin: initial\; background-clip: initial\; color: rgb(102\, 102\, 102)\; font-family: ">Small and midsize employers may begin using two new refundable payroll tax credits to obtain reimbursement for the costs of providing coronavirusrelated leave to their employees\, the U.S. Department of Labor (DOL) and Internal Revenue Service (IRS) announced on March 20\, 2020.</p>\n\n<p open="" style="box-sizing: border-box\; margin: 0px\; padding: 0px 0px 1em\; border: 0px\; outline: 0px\; font-size: 14px\; text-size-adjust: 100%\; vertical-align: baseline\; background-image: initial\; background-position: initial\; background-size: initial\; background-repeat: initial\; background-attachment: initial\; background-origin: initial\; background-clip: initial\; color: rgb(102\, 102\, 102)\; font-family: ">This relief is provided under the Families First Coronavirus Response Act (the Act)\, which was enacted on March 18\, 2020. The Act provides funds for employers with fewer than 500 employees to provide paid leave\, either for their employees&rsquo\; own health needs or to care for their family members. The Act aims to help employers keep workers on their payrolls while ensuring that workers are not forced to choose between their paychecks and the public health measures needed to combat the coronavirus (COVID-19).</p>\n\n<p open="" style="box-sizing: border-box\; margin: 0px\; padding: 0px 0px 1em\; border: 0px\; outline: 0px\; font-size: 14px\; text-size-adjust: 100%\; vertical-align: baseline\; background-image: initial\; background-position: initial\; background-size: initial\; background-repeat: initial\; background-attachment: initial\; background-origin: initial\; background-clip: initial\; color: rgb(102\, 102\, 102)\; font-family: "><a href="https://content.zywave.com/content/4fdf66d3-ebbd-476c-ad99-3f4ca20f6c30" rel="noopener noreferrer" style="box-sizing: border-box\; margin: 0px\; padding: 0px\; border: 0px\; outline: 0px\; text-size-adjust: 100%\; vertical-align: baseline\; background: transparent\; color: rgb(106\, 203\, 106)\; text-decoration-line: none\;" target="_blank">Click here to download the content for an explanation.</a></p>\n\n<p open="" style="box-sizing: border-box\; margin: 0px\; padding: 0px\; border: 0px\; outline: 0px\; font-size: 14px\; text-size-adjust: 100%\; vertical-align: baseline\; background-image: initial\; background-position: initial\; background-size: initial\; background-repeat: initial\; background-attachment: initial\; background-origin: initial\; background-clip: initial\; color: rgb(102\, 102\, 102)\; font-family: ">Join&nbsp\;PA Chamber of Business and Industry us on March 27\, 2020 &ndash\; 11 am to 12:45 pm for&nbsp\;<a href="http://resources.pachamber.org/ls/click?upn=JiFARvsGvgGlGI5BWtPX-2Fz6h5jOtwnYx3UNn7Hy7UlPefAHGV516pXyBwu8FSGTyno3U_GqFZoznRSqli4YcCfBWqm-2Bi5KWgLEYYhNu4b-2FMYiwAt4iCBkD6DXqr9sutI-2FxCpKSzpYhojbQ3iZ-2BMLVOI1hHYnKhJRIMOLWqNLN8Hc6CH3s-2BPt8UmPlCzq3Hd1XW9Ppitk4PSq8sqkMEreLRT8S-2BL7zcTB2ffwdUGJ4uIgPq-2BqXExFoVuCTOq5gxEOQ-2FWscnc4GdGusoCNWJjfXCvD10oyKJqIdn8sJBrOLeH7fUknOsd5CxkCNh9sMqJMsouc4mCLFPX-2F6qbHZH70N8f-2FCROeSJfqz1oG-2BVVEmdL7pc9jdAzOiDQCxAgIfb0peYQTGq0Zj5BQ5jQeAPZ69OeMEInDS85DU-2FzcF5vznoegJH5IBmb9EVmU5gZ7vCzl6cU8RET2nN0TE962ublF3-2Bu7-2FZEnIPXRXAHdADPPu7PTeGhlNh9bJtBdIownMwmKO47eG2B7Dti-2Fg8aoYxSuJdzuMGkuVJhIImSAJS2-2B9Air2W2gHvQXZy1cnM1opJ5WjtnfY9d6Zot-2BvDAVdcqXaQ0cMorQma-2B8pIxAgvw4snAKtYmwi7h7k2YXMRdjKUL54hHv3Xp8ZHMRk6D6aDUsewHpN9IdFJ0OEpnx7bQL9BiLG9Dy-2B6yYK9HcEQ0tFXkeaLsqOJbeGFWMpL-2B7I6xM2Ix0ZN6TbhCdoGS-2Fx0OytRnjtDfpQMAj-2BtQDcTnUTfgfH2xn0A63Lex12737RBhMqDb0RhSQs-2FYZYDIU9x002yMTl7H-2FrDl-2FKydNuMks-2BpxOCI5YjjIRLaO3fIiMeR-2B-2BdiBVxE5BoMIffmQ9W-2FUkce-2BI9QjI-3D" rel="noopener noreferrer" style="box-sizing: border-box\; margin: 0px\; padding: 0px\; border: 0px\; outline: 0px\; text-size-adjust: 100%\; vertical-align: baseline\; background: transparent\; color: rgb(106\, 203\, 106)\; text-decoration-line: none\;" target="_blank">PA Chamber&rsquo\;s free webinar Coronovarius and Small Business Next Steps and Best Practices.</a></p>\n
LOCATION:Online
UID:e.2302.9763
SEQUENCE:3
DTSTAMP:20260422T181820Z
URL:http://business.ycea-pa.org/events/details/webinar-irs-issues-guidance-on-tax-credits-for-coronavirus-paid-leave-9763
END:VEVENT

END:VCALENDAR
