BEGIN:VCALENDAR
VERSION:2.0
PRODID:-//ChamberMaster//Event Calendar 2.0//EN
METHOD:PUBLISH
X-PUBLISHED-TTL:P3D
REFRESH-INTERVAL:P3D
CALSCALE:GREGORIAN
BEGIN:VEVENT
DTSTART;VALUE=DATE:20191214
DTEND;VALUE=DATE:20191216
TRANSP:TRANSPARENT
X-MICROSOFT-CDO-ALLDAYEVENT:TRUE
SUMMARY:Santa’s Paradise Express
DESCRIPTION:Meet Santa as you travel aboard a vintage steam train for this one-of-a-kind Christmas experience. With a special gift for each child\, Santa will greet families at their seat and offer the opportunity to have a photo taken with him. At the station Mrs. Claus will be available to help finalize letters to Santa and visitors can enjoy a ride aboard the Tinsel Trolley\, a self-propelled motorcar\, and hear storybook readings of holiday classics aboard a heated stationary Caboose.
X-ALT-DESC;FMTTYPE=text/html:Meet Santa as you travel aboard a vintage steam train for this one-of-a-kind Christmas experience. With a special gift for each child\, Santa will greet families at their seat and offer the opportunity to have a photo taken with him. At the station Mrs. Claus will be available to help finalize letters to Santa and visitors can enjoy a ride aboard the Tinsel Trolley\, a self-propelled motorcar\, and hear storybook readings of holiday classics aboard a heated stationary Caboose.
LOCATION:Strasburg Rail Road 301 Gap Road Ronks\, PA 17572
UID:e.2302.9159
SEQUENCE:3
DTSTAMP:20260420T223539Z
URL:http://business.ycea-pa.org/events/details/santa-s-paradise-express-12-14-2019-9159
END:VEVENT

END:VCALENDAR
