BEGIN:VCALENDAR
VERSION:2.0
PRODID:-//ChamberMaster//Event Calendar 2.0//EN
METHOD:PUBLISH
X-PUBLISHED-TTL:P3D
REFRESH-INTERVAL:P3D
CALSCALE:GREGORIAN
BEGIN:VEVENT
DTSTART:20241013T150000Z
DTEND:20241013T160000Z
X-MICROSOFT-CDO-ALLDAYEVENT:FALSE
SUMMARY:October Poses and Pints
DESCRIPTION:Enjoy a no experience necessary\, hour-long yoga session followed by delicious Collusion beer and lunch with your fellow yogis. Caroline is our certified yoga teacher and will be your guide!\n\n \n\nTicket price includes the 1 hour class and your choice of beer or cider. Please bring your own yoga mat and water bottle! Classes will be held in our secondary space beside the taproom\, through our third door on the right of the outdoor awning space. Arrive 10-15 min early to grab your spot.\n\n \n\n** Beer selection included in class is subject to availability. Must be 21 to attend this event.
X-ALT-DESC;FMTTYPE=text/html:<div>Enjoy a no experience necessary\, hour-long yoga session followed by delicious Collusion beer and lunch with your fellow yogis. Caroline is our certified yoga teacher and will be your guide!<br />\n&nbsp\;</div>\n\n<div>Ticket price includes the 1 hour class and your choice of beer or cider. Please bring your own yoga mat and water bottle! Classes will be held in our secondary space beside the taproom\, through our third door on the right of the outdoor awning space. Arrive 10-15 min early to grab your spot.<br />\n&nbsp\;</div>\n\n<div>** Beer selection included in class is subject to availability. Must be 21 to attend this event.</div>\n
LOCATION:Collusion Tap Works York (105 S Howard St York\, PA 17401)
UID:e.2302.11322
SEQUENCE:3
DTSTAMP:20260419T132932Z
URL:http://business.ycea-pa.org/events/details/october-poses-and-pints-11322
END:VEVENT

END:VCALENDAR
