BEGIN:VCALENDAR
VERSION:2.0
PRODID:-//ChamberMaster//Event Calendar 2.0//EN
METHOD:PUBLISH
X-PUBLISHED-TTL:P3D
REFRESH-INTERVAL:P3D
CALSCALE:GREGORIAN
BEGIN:VEVENT
DTSTART:20260519T130000Z
DTEND:20260519T143000Z
X-MICROSOFT-CDO-ALLDAYEVENT:FALSE
SUMMARY:Let's Connect!
DESCRIPTION:Let's Connect! A series for new members\, prospective members\, or anyone who would love a refresher on all YCEA has to offer!
X-ALT-DESC;FMTTYPE=text/html:Let&#39\;s Connect! A series&nbsp\;for new members\, prospective members\, or anyone who would love a refresher on all YCEA has to offer!&nbsp\;
LOCATION:YCEA Office Second Floor Boardroom 144 Roosevelt Avenue York\, PA 17401
UID:e.2302.11575
SEQUENCE:3
DTSTAMP:20260420T082940Z
URL:http://business.ycea-pa.org/events/details/let-s-connect-05-19-2026-11575
END:VEVENT

END:VCALENDAR
