BEGIN:VCALENDAR
VERSION:2.0
PRODID:-//ChamberMaster//Event Calendar 2.0//EN
METHOD:PUBLISH
X-PUBLISHED-TTL:P3D
REFRESH-INTERVAL:P3D
CALSCALE:GREGORIAN
BEGIN:VEVENT
DTSTART:20210209T170000Z
DTEND:20210209T180000Z
X-MICROSOFT-CDO-ALLDAYEVENT:FALSE
SUMMARY:Budgeting
DESCRIPTION:Learn how to set up a spending plan\, track spending\, save money\, and create short-and long-term financial goals. Presenter: Lisa Barshinger\, First Capital FCU
X-ALT-DESC;FMTTYPE=text/html:Learn how to set up a spending plan\, track spending\, save money\, and create short-and long-term financial goals. Presenter: Lisa Barshinger\, First Capital FCU
LOCATION:Virtual - Click Here to Register!
UID:e.2302.9981
SEQUENCE:3
DTSTAMP:20260419T114021Z
URL:http://business.ycea-pa.org/events/details/budgeting-02-09-2021-9981
END:VEVENT

END:VCALENDAR
